BEGIN:VCALENDAR
VERSION:2.0
PRODID:-//www.admidio.org//Admidio3.2.11//DE
CALSCALE:GREGORIAN
METHOD:PUBLISH
X-WR-TIMEZONE:America/New_York
BEGIN:VTIMEZONE
TZID:America/New_York
X-LIC-LOCATION:America/New_York
BEGIN:STANDARD
DTSTART:19701025T030000
TZOFFSETFROM:+0200
TZOFFSETTO:+0100
TZNAME:CET
RRULE:FREQ=YEARLY;BYDAY=-1SU;BYMONTH=10
END:STANDARD
BEGIN:DAYLIGHT
DTSTART:19700329T020000
TZOFFSETFROM:+0100
TZOFFSETTO:+0200
TZNAME:CEST
RRULE:FREQ=YEARLY;BYDAY=-1SU;BYMONTH=3
END:DAYLIGHT
END:VTIMEZONE
BEGIN:VEVENT
CREATED:20170407T074120
LAST-MODIFIED:
UID:20170407T074120+2@members.cliftonparkelks.org
SUMMARY:Elktoberfest
DESCRIPTION:Beverage tasting event to benefit NYS Major Projects
DTSTAMP:20260421T061813
LOCATION:Clifton Park Elks Lodge 2466
DTSTART;TZID=America/New_York:20171007T120000
DTEND;TZID=America/New_York:20171007T180000
END:VEVENT
END:VCALENDAR